BEGIN:VCALENDAR
VERSION:2.0
PRODID:-//HCEA Canada - ECPv6.15.20//NONSGML v1.0//EN
CALSCALE:GREGORIAN
METHOD:PUBLISH
X-ORIGINAL-URL:https://hceacanada.org
X-WR-CALDESC:Events for HCEA Canada
REFRESH-INTERVAL;VALUE=DURATION:PT1H
X-Robots-Tag:noindex
X-PUBLISHED-TTL:PT1H
BEGIN:VTIMEZONE
TZID:America/Toronto
BEGIN:DAYLIGHT
TZOFFSETFROM:-0500
TZOFFSETTO:-0400
TZNAME:EDT
DTSTART:20230312T070000
END:DAYLIGHT
BEGIN:STANDARD
TZOFFSETFROM:-0400
TZOFFSETTO:-0500
TZNAME:EST
DTSTART:20231105T060000
END:STANDARD
BEGIN:DAYLIGHT
TZOFFSETFROM:-0500
TZOFFSETTO:-0400
TZNAME:EDT
DTSTART:20240310T070000
END:DAYLIGHT
BEGIN:STANDARD
TZOFFSETFROM:-0400
TZOFFSETTO:-0500
TZNAME:EST
DTSTART:20241103T060000
END:STANDARD
BEGIN:DAYLIGHT
TZOFFSETFROM:-0500
TZOFFSETTO:-0400
TZNAME:EDT
DTSTART:20250309T070000
END:DAYLIGHT
BEGIN:STANDARD
TZOFFSETFROM:-0400
TZOFFSETTO:-0500
TZNAME:EST
DTSTART:20251102T060000
END:STANDARD
BEGIN:DAYLIGHT
TZOFFSETFROM:-0500
TZOFFSETTO:-0400
TZNAME:EDT
DTSTART:20260308T070000
END:DAYLIGHT
BEGIN:STANDARD
TZOFFSETFROM:-0400
TZOFFSETTO:-0500
TZNAME:EST
DTSTART:20261101T060000
END:STANDARD
BEGIN:DAYLIGHT
TZOFFSETFROM:-0500
TZOFFSETTO:-0400
TZNAME:EDT
DTSTART:20270314T070000
END:DAYLIGHT
BEGIN:STANDARD
TZOFFSETFROM:-0400
TZOFFSETTO:-0500
TZNAME:EST
DTSTART:20271107T060000
END:STANDARD
END:VTIMEZONE
BEGIN:VEVENT
DTSTART;TZID=America/Toronto:20240403T100000
DTEND;TZID=America/Toronto:20240403T200000
DTSTAMP:20260420T170505
CREATED:20240318T131144Z
LAST-MODIFIED:20240318T173817Z
UID:10000134-1712138400-1712174400@hceacanada.org
SUMMARY:HCEA Work Day
DESCRIPTION:Join Us for Work Days at the Museum! \nStart Date: April 3rd\, Wednesday – Mark your calendars for the kickoff of our volunteer activities at the museum! \nTime: Dive into action anytime from 10 AM to 8 PM. Please note\, timings and days may adjust based on specific tasks and weather conditions. \nFrequency: Every Wednesday from April to November (excluding certain dates). This recurring schedule gives you plenty of opportunities to get involved at times that best suit you. \nGet Involved: Whether you’re a seasoned member or new to our community\, we welcome your enthusiasm and skills! To learn more about the specific activities planned and how you can contribute\, please reach out to our dedicated Volunteer Coordinator. Check out our current projects on the Restoration Page. \nDon’t miss this chance to make a difference\, connect with fellow members\, and contribute to our museum’s success. We’re excited to see you there!
URL:https://hceacanada.org/calendar/hcea-work-day/2024-04-03/
LOCATION:Simcoe County Museum\, 1151 Highway 26\, Minesing\, Ontario\, L9X 0Z7\, Canada
CATEGORIES:Member Activities,Work Nights
ATTACH;FMTTYPE=image/jpeg:https://hceacanada.org/wp-content/uploads/2024/03/1000005887-jpg.webp
ORGANIZER;CN="Don Morton":MAILTO:hcea.canada@gmail.com
GEO:44.4444354;-79.747991
X-APPLE-STRUCTURED-LOCATION;VALUE=URI;X-ADDRESS=Simcoe County Museum 1151 Highway 26 Minesing Ontario L9X 0Z7 Canada;X-APPLE-RADIUS=500;X-TITLE=1151 Highway 26:geo:-79.747991,44.4444354
END:VEVENT
BEGIN:VEVENT
DTSTART;TZID=America/Toronto:20240608T080000
DTEND;TZID=America/Toronto:20240608T170000
DTSTAMP:20260420T170505
CREATED:20240318T132344Z
LAST-MODIFIED:20240318T153522Z
UID:10000166-1717833600-1717866000@hceacanada.org
SUMMARY:Wheels & Tracks in Motion
DESCRIPTION:Wheels & Tracks in Motion 2024 \nEvent Dates: June 8th & 9th\, 2024\nTime: 10 AM to 4 PM\nLocation: Simcoe County Museum \nJoin us for the annual Wheels & Tracks in Motion\, Canada’s longstanding vintage construction equipment event\, featuring live demonstrations and exhibits. \nEvent Highlights: \n\nLive Demonstrations: Experience the operation of vintage construction equipment\, including scrapers\, dozers\, shovels\, and rollers.\nExhibits Include:\n\nOntario Antique Trucks\nMilitary machines from Friends of Borden Museum\nSteam roller printing exhibit\nSmall machines display by Johnston Supply Co.\nIndoor models\, memorabilia\, stationary engines\, power units\, and vintage autos\n\n\n\nSpecial Feature: New this year is a parade on Saturday at 3 PM\, showcasing a selection of the vintage equipment in motion. \nAdditional Information: For further details\, you can reach out to the Simcoe County Museum at 705-728-3721 or via email. \nAbout the Event: Wheels & Tracks in Motion is dedicated to preserving and demonstrating the history of construction equipment in Canada. It’s an opportunity for enthusiasts and professionals in the trades to explore the evolution of heavy machinery and connect with like-minded individuals. \n2023 Gallery: \n\n				\n					\n					\n					\n				Loading the next set of gallery items...
URL:https://hceacanada.org/calendar/wheels-tracks-in-motion-2/2024-06-08/
LOCATION:Simcoe County Museum\, 1151 Highway 26\, Minesing\, Ontario\, L9X 0Z7\, Canada
CATEGORIES:Shows
ATTACH;FMTTYPE=image/jpeg:https://hceacanada.org/wp-content/uploads/2018/04/Wheels-Tracks-2013-102.jpg
ORGANIZER;CN="HCEA Canada":MAILTO:admin@hceacanada.org
GEO:44.4444354;-79.747991
X-APPLE-STRUCTURED-LOCATION;VALUE=URI;X-ADDRESS=Simcoe County Museum 1151 Highway 26 Minesing Ontario L9X 0Z7 Canada;X-APPLE-RADIUS=500;X-TITLE=1151 Highway 26:geo:-79.747991,44.4444354
END:VEVENT
BEGIN:VEVENT
DTSTART;TZID=America/Toronto:20240622T073000
DTEND;TZID=America/Toronto:20240622T170000
DTSTAMP:20260420T170505
CREATED:20240318T133319Z
LAST-MODIFIED:20240318T133425Z
UID:10000168-1719041400-1719075600@hceacanada.org
SUMMARY:Kawartha Antique Power
DESCRIPTION:Kawartha Antique Power: 44th Annual Heritage Show \nEvent Dates: Saturday\, June 22nd & Sunday\, June 23rd\, 2024\nLocation: Lindsay Fairgrounds\, Lindsay\, Ontario\nAdmission: $12.00 (Children under 12 free) \n\n\n\n\n\n\n\n\n\n\n\n\nJoin us at the Lindsay Fairgrounds for the 44th Annual Heritage Show\, a celebration of agricultural history and innovation. This two-day event brings together enthusiasts of antique farming equipment\, showcasing a rich array of machinery and activities that reflect our rural Canadian heritage. \n2024 Features: \n\nSpotlight on Minneapolis-Moline\, Ford/David Brown: Discover the legacy and impact of these iconic brands in the world of agricultural machinery.\nHeavyweight Stock Tractor Pull (New Event): Experience the thrill of power and performance on Saturday evening.\n\nActivities & Exhibits: \n\nCommonwell Building: Your hub for registration\, vendors\, and a bustling flea market.\nOutdoor Displays: Explore an extensive collection of tractors\, gas engines\, steam engines\, historic vehicles\, and more.\nLive Demonstrations: Including threshing\, hay press\, shingle mill\, sawmill\, dragsaw\, and stone crusher operations.\nFor the Kids: Don’t miss the Garden Tractor Rodeo and Pedal Pull competition.\nParades and Pulls: Enjoy our daily parade of equipment at 1 PM and participate in the open tractor pull and junior tractor pull events.\n\nAdditional Highlights: \n\nSilent Auction: Bid on unique items with auctions closing daily at 3:30 PM.\nMerchandise: Official 2024 calendars and club T-shirts & hats now available for $25 each.\nFood & More: Satisfy your appetite at our food booth and check out the crafts\, early trades\, and antiques on display.\n\nAbout Kawartha Antique Power:\nWe are a non-profit\, charitable organization\, dedicated to preserving\, restoring\, and exhibiting our agricultural heritage. With 234 full-time and 25 junior members\, we gather monthly to share our passion and plan this annual showcase. From our beginnings as the East Lake Simcoe Pioneer Society to today’s vibrant community\, we invite you to join us in celebrating our past and inspiring future generations. \nDon’t Miss Out: \n\nLocation: Lindsay Exhibition Fair Grounds\, 354 Angeline St. S.\, Lindsay\, ON\nContact: For more information\, calendars\, or to get involved\, contact Sharon.
URL:https://hceacanada.org/calendar/antiquepower-2/2024-06-22/
LOCATION:Lindsay Exhibition Fair Grounds 354 Angeline St. S. Lindsay\, ON\, 354 Angeline St. S.\, Lindsay\, Ontario\, K9V 4R2\, Canada
CATEGORIES:Shows
ATTACH;FMTTYPE=image/jpeg:https://hceacanada.org/wp-content/uploads/2018/04/7.jpg
ORGANIZER;CN="Kawartha Antique Power":MAILTO:info@kawarthaantiquepower.com
END:VEVENT
BEGIN:VEVENT
DTSTART;TZID=America/Toronto:20240705T080000
DTEND;TZID=America/Toronto:20240705T170000
DTSTAMP:20260420T170505
CREATED:20240318T135827Z
LAST-MODIFIED:20240318T153909Z
UID:10000131-1720166400-1720198800@hceacanada.org
SUMMARY:Muskoka Pioneer Power
DESCRIPTION:Immerse Yourself in the Past at the Muskoka Pioneer Power Show 2024! \nGear up for a weekend of heritage and machinery at the Muskoka Pioneer Power Show\, set against the backdrop of the J.D. Lang Activity Park in Bracebridge. This year’s event spotlights the beauty and history of antique machinery in an explosion of colours. \nEvent Dates: \n\nFriday: Gates open at 5:00 PM\nSaturday & Sunday: Start bright and early at 7:00 AM\n\nAttractions and Highlights: \n\nAllis Chalmers Feature\nHeritage Display Rooms: Step into the past with exhibits celebrating Muskoka Pioneer Power’s storied history.\nLive Demonstrations: Be captivated by the operation of the Waterous Saw Mill\, Mowry Shingle Mill\, and witness craftsmanship at the log cabin and blacksmith shop.\nEngine and Tractor Showcases: A robust collection of antique engines and tractors on display.\nCountry Store: Your destination for unique souvenirs and vintage finds.\nAntique Tractor Pulls: Feel the excitement and raw power on Saturday.\nClassic & Antique Vehicle Exhibits: Stroll through an exhibition of pristine classic and vintage automobiles.\nGrand Parade: The grand finale each day featuring a parade of all showcased machinery and vehicles.\n\nSpecial Events: \n\nPancake & Sausage/Peameal Breakfast: Fuel up from 7:00 – 10:00 AM on both Saturday and Sunday.\nRoast Beef Dinner: Indulge in a hearty meal on Saturday night for $15.00.\nDance the Night Away: Saturday at 7:00 PM\, join us for country\, line\, and square dancing.\n\nJoin the Community: The Muskoka Pioneer Power Association is dedicated to uniting antique machinery enthusiasts and preserving the legacy of historical machinery. Share knowledge\, celebrate history\, and enjoy the camaraderie at our vibrant event. \nAdditional Details: \n\nFree Parking: Convenient and complimentary for all attendees.\nMusical Entertainment: Enjoy live music setting the soundtrack for your weekend.\n\nDon’t miss out on this celebration of Muskoka’s rich machinery heritage. For a full schedule\, visit Muskoka Pioneer Power’s website. Mark your calendars for an eventful weekend of family fun\, nostalgia\, and the power of pioneering spirit at the Muskoka Pioneer Power Show 2024!
URL:https://hceacanada.org/calendar/muskoka-pioneer-power-2/2024-07-05/
LOCATION:JD Lang Activity Park\, 27 Gray Rd\, Bracebridge\, Ontario\, P1L 1P8\, Canada
CATEGORIES:Shows
ATTACH;FMTTYPE=image/jpeg:https://hceacanada.org/wp-content/uploads/2018/04/bracebridge.jpg
END:VEVENT
BEGIN:VEVENT
DTSTART;TZID=America/Toronto:20240802T080000
DTEND;TZID=America/Toronto:20240802T170000
DTSTAMP:20260420T170505
CREATED:20240318T141654Z
LAST-MODIFIED:20240318T141656Z
UID:10000170-1722585600-1722618000@hceacanada.org
SUMMARY:Georgian Bay Steam Show
DESCRIPTION:Discover the Power of the Past at the Georgian Bay Steam Show 2024 \nFeatured Brand: Allis Chalmers \nEvent Overview: The Georgian Bay Steam Show is an annual celebration of antique machinery that brings to life the steam\, auto\, and gas engines of yesteryear. Held during the Civic Holiday weekend in August\, this show offers a unique glimpse into the mechanical marvels that have shaped our agricultural and industrial history. \nWhat to Expect: \n\nExhibits: A wide array of equipment on display\, with a special focus on the legendary Allis Chalmers brand for 2024.\nDemonstrations: See steam engines and other antique machinery in action\, showcasing the ingenuity of historical technology.\nWheat Field: Observe the traditional processing of wheat\, from field to flour\, using time-honored machinery.\n\nJoin Our Community: \n\nWebsite: Visit www.steamshow.ca to stay informed and connect with fellow enthusiasts.\nFacebook Group: Become part of our private group of 19 members to share your interest and knowledge in steam\, auto\, and gas antique machinery. Request to join.\n\nSave the Date: \n\nNo upcoming events at the moment – Keep an eye on our website or join our Facebook group for the latest updates and announcements.\n\nVenue: \n\nLocation: 4635 Victoria St W\, Innisfil\, ON L0L 1L0\, Canada\n\nContact Us: \n\nEmail: info@steamshow.ca for more information or inquiries.
URL:https://hceacanada.org/calendar/georgian-bay-steam-show-2/2024-08-02/
LOCATION:Georgain Bay Steam Show\, 4583 15 Line\, Cookstown\, Ontario\, L0L 1L0\, Canada
CATEGORIES:Shows
ATTACH;FMTTYPE=image/jpeg:https://hceacanada.org/wp-content/uploads/2023/04/IMG_1763.jpg
ORGANIZER;CN="Georgain Bay Steam & Antique Association":MAILTO:info@steamshow.ca
GEO:44.18592;-79.7094981
X-APPLE-STRUCTURED-LOCATION;VALUE=URI;X-ADDRESS=Georgain Bay Steam Show 4583 15 Line Cookstown Ontario L0L 1L0 Canada;X-APPLE-RADIUS=500;X-TITLE=4583 15 Line:geo:-79.7094981,44.18592
END:VEVENT
BEGIN:VEVENT
DTSTART;TZID=America/Toronto:20240816T090000
DTEND;TZID=America/Toronto:20240816T170000
DTSTAMP:20260420T170505
CREATED:20230423T180642Z
LAST-MODIFIED:20240318T142852Z
UID:10000174-1723798800-1723827600@hceacanada.org
SUMMARY:Bruce County Heritage Farm Show
DESCRIPTION:Bruce County Heritage Association Presents: The 29th Heritage Farm & Steam Show \nFeaturing John Deere Equipment \nJoin us at the annual Heritage Farm & Steam Show\, the highlight event of the year hosted by the Bruce County Heritage Association. This event draws in a crowd of thousands\, including heavy construction equipment enthusiasts and tradespeople\, showcasing the storied past of agricultural and steam technology. With a special feature on John Deere equipment\, this year’s show is a nod to the iconic green and yellow machines that have revolutionized farming. \nEvent Highlights: \n\nJohn Deere Showcase: Explore the evolution and impact of John Deere machinery\, from classic tractors to modern marvels.\nDaily Activities: Enjoy tractor pulls\, working displays\, and demonstrations until 5 PM on Friday and Saturday\, and until 4 PM on Sunday.\nEvening Festivities: Experience more than just machinery with our evening lineup including live entertainment\, a corn roast\, horse demonstrations\, and a spark show on select nights.\nLocal Flair: Local musical talents will grace the event\, accompanied by parades and a vibrant flea market.\nFamily-Friendly: Engaging crafts\, games\, and food available to delight visitors of all ages.\n\nAbout BCHA: The Bruce County Heritage Association is a volunteer-run non-profit dedicated to the preservation and presentation of agricultural heritage in Bruce County and beyond. Founded after the 1993 Bruce County International Ploughing Match\, we’ve since grown to provide a full array of activities that celebrate our rural roots and community spirit. \nCamping at the Show: For those wishing to stay on-site\, rough camping is available for members\, vendors\, demonstrators\, and exhibitors. To book your spot or for more information\, contact Jackie Flynn at 519-927-3581 or email bchacamping@gmail.com. \nEssential Information for Attendees: \n\nPlease carry cash for transactions as many vendors may not accept cards.\nFamiliarize yourself with our campground rules for a safe and enjoyable visit.\nCompliance with the Ontario Fire Code is mandatory\, including having working smoke and carbon monoxide alarms in all RVs.\n\nContact & Location: \n\nVenue: 89 Concession 2A\, Municipality of Arran-Elderslie\, just south of Paisley.\nEmail: info@steamshow.ca for any inquiries.\n\nWe invite you to be part of this living tribute to the machines that have shaped our agricultural past and continue to forge our future. For the full event program and additional details\, please visit our website or reach out to us directly. Don’t miss out on this extraordinary showcase of John Deere equipment and much more at the 29th Heritage Farm & Steam Show!
URL:https://hceacanada.org/calendar/bruce-county-heritage-farm-show/2024-08-16/
LOCATION:Bruce County Heritage Farm Show\, 1576 Concession Rd 2A\, Paisley\, Ontario\, N0G 2N0\, Canada
CATEGORIES:Shows
ATTACH;FMTTYPE=image/jpeg:https://hceacanada.org/wp-content/uploads/2023/04/20180819_144148.jpg
ORGANIZER;CN="The Bruce County Heritage Association":MAILTO:brucecountyheritage@gmail.com
GEO:44.279387;-81.2560427
X-APPLE-STRUCTURED-LOCATION;VALUE=URI;X-ADDRESS=Bruce County Heritage Farm Show 1576 Concession Rd 2A Paisley Ontario N0G 2N0 Canada;X-APPLE-RADIUS=500;X-TITLE=1576 Concession Rd 2A:geo:-81.2560427,44.279387
END:VEVENT
BEGIN:VEVENT
DTSTART;TZID=America/Toronto:20240830T120000
DTEND;TZID=America/Toronto:20240830T170000
DTSTAMP:20260420T170505
CREATED:20240318T143249Z
LAST-MODIFIED:20240318T143253Z
UID:10000177-1725019200-1725037200@hceacanada.org
SUMMARY:Milton Steam Era
DESCRIPTION:Steam-Era 2024: Celebrating 62 Years of Heritage Preservation \nEvent Dates: August 30 to September 2\, 2024\nLocation: Hume’s Auction Farm\, Halton Hills\, Ontario\, Canada \nJoin us for Steam-Era 2024\, the flagship event of the Ontario Steam and Antique Preservers Association\, featuring a special showcase on Construction Equipment. This much-anticipated gathering is a staple in Halton Hills\, bringing to life the mechanical wonders of the past for an audience that exceeds 4\,000 visitors annually. \nEvent Attractions: \n\nSpecial Feature on Construction Equipment: Explore a unique collection of antique construction machinery that has shaped our landscape.\nLive Demonstrations: Witness the operation of heritage agricultural equipment and partake in interactive experiences.\nFamily-Friendly Entertainment: Free wagon rides\, a dedicated Kids Zone\, and a variety of live entertainment options for guests of all ages.\nMarket and Food: Enjoy browsing through our flea market and indulge in a range of food options.\n\nAdditional Details: \n\nEvent Start: 12:00 PM\, August 30\, 2024\nEvent End: 5:00 PM\, September 2\, 2024\nProud Member: Milton Chamber of Commerce\n\nGet Involved: Save the date for Labour Day weekend 2024 to celebrate 62 years of Steam-Era with us! Updates on event details will be coming soon. We look forward to welcoming enthusiasts\, families\, and the public to join in the festivities and appreciate the legacy of steam and antique machinery. \nStay Informed: For the latest information\, keep an eye on our website and reach out for any inquiries. Should you encounter any issues with our website or discover broken links\, please contact our webmaster. \nYour Experience Matters: Steam-Era is more than just an event; it’s a heritage journey that offers something for everyone. Prepare to be transported back in time and immerse yourself in the history of steam and construction equipment. \nFor any additional information\, please review our privacy policy or get in touch with the Ontario Steam and Antique Preservers Association directly. We can’t wait to see you there for a weekend of historical exploration and fun!
URL:https://hceacanada.org/calendar/milton-steam-era-2/2024-08-30/
LOCATION:Hume’s Auction Farm\, 9313 Fourth Line\, Milton\, ON\, L9T 2X9\, Canada
CATEGORIES:Shows
ATTACH;FMTTYPE=image/jpeg:https://hceacanada.org/wp-content/uploads/2018/04/milton.jpg
GEO:43.5665884;-79.9079249
X-APPLE-STRUCTURED-LOCATION;VALUE=URI;X-ADDRESS=Hume’s Auction Farm 9313 Fourth Line Milton ON L9T 2X9 Canada;X-APPLE-RADIUS=500;X-TITLE=9313 Fourth Line:geo:-79.9079249,43.5665884
END:VEVENT
BEGIN:VEVENT
DTSTART;TZID=America/Toronto:20240906T080000
DTEND;TZID=America/Toronto:20240906T160000
DTSTAMP:20260420T170505
CREATED:20240318T150025Z
LAST-MODIFIED:20240318T150027Z
UID:10000181-1725609600-1725638400@hceacanada.org
SUMMARY:Huron Pioneer Thresher & Hobby Show
DESCRIPTION:Celebrate Tradition at the 63rd Blyth Steam Show \nEvent Dates: September 6-8\, 2024\nLocation: Blyth\, Ontario \nJoin the Huron Pioneer Thresher & Hobby Association for our 63rd annual reunion\, showcasing the legacy of agricultural machinery. Revel in the history and craftsmanship of threshing and steam-powered equipment during this three-day event that connects hobbyists\, families\, and the farming community. \nShow Details: \n\nHours: From 8:00 AM to 4:00 PM daily\, take a stroll down memory lane and engage with the past.\nAdmission: Adults $10.00\, Children 12 and under $2.00\, or free if accompanied by an adult. Enjoy a special seniors’ discount on Friday for just $8.00.\nBrochure: Download the 2023 show brochure for a glimpse into our showcase and get excited for what’s to come in 2024.\n\nExperience the Blyth Steam Show\, where the roar of vintage engines and the clatter of machinery provide the backdrop for a journey through our agricultural heritage. Stay tuned for more information and mark your calendars for a weekend of historical celebration!
URL:https://hceacanada.org/calendar/huron-pioneer-thresher-hobby-show-2/2024-09-06/
LOCATION:Blyth Steam Show\, 86 Blyth Rd\, Walton\, Ontario\, N0K 1Z0\, Canada
CATEGORIES:Shows
ATTACH;FMTTYPE=image/jpeg:https://hceacanada.org/wp-content/uploads/2019/04/blyth.jpg
ORGANIZER;CN="Huron Pioneer Thresher & Hobby Association":MAILTO:info@hptha.com
END:VEVENT
BEGIN:VEVENT
DTSTART;TZID=America/Toronto:20241019T100000
DTEND;TZID=America/Toronto:20241019T160000
DTSTAMP:20260420T170505
CREATED:20240930T140438Z
LAST-MODIFIED:20240930T143750Z
UID:10000184-1729332000-1729353600@hceacanada.org
SUMMARY:Last Blast
DESCRIPTION:Start your engines and head to the Simcoe County Museum for one of the largest displays of working historic construction equipment in Canada! The Simcoe County Museum and the Historical Construction Equipment Association present our annual Last Blast at the Simcoe County Museum.\nRide out to the gravel pits on a people mover for a tour. See live demonstrations of steam powered equipment\, vintage road building\, rock crushing\, grading\, hoisting and much more. Wander through the displays of vintage tractors\, classic trucks and other historic equipment set up around the Museum grounds. Each year we power up pieces of our heritage equipment for one last blast before the winter\, and you are invited to come see it. This is a family event guaranteed to rev up the inner child in everyone!The Simcoe County Museum is located at 1151 Highway 26\, Minesing\, just minutes north of Barrie. Event rates apply:\n\n\n\n$10 Adults\n$8 Students/Seniors\n$5 Children\n$0 Preschoolers
URL:https://hceacanada.org/calendar/last-blast-2/
LOCATION:Simcoe County Museum\, 1151 Highway 26\, Minesing\, Ontario\, L9X 0Z7\, Canada
CATEGORIES:Shows
ATTACH;FMTTYPE=image/jpeg:https://hceacanada.org/wp-content/uploads/2023/04/HCEA-11.jpg
ORGANIZER;CN="HCEA Canada":MAILTO:admin@hceacanada.org
GEO:44.4444354;-79.747991
X-APPLE-STRUCTURED-LOCATION;VALUE=URI;X-ADDRESS=Simcoe County Museum 1151 Highway 26 Minesing Ontario L9X 0Z7 Canada;X-APPLE-RADIUS=500;X-TITLE=1151 Highway 26:geo:-79.747991,44.4444354
END:VEVENT
BEGIN:VEVENT
DTSTART;TZID=America/Toronto:20261107T103000
DTEND;TZID=America/Toronto:20261107T150000
DTSTAMP:20260420T170505
CREATED:20251122T164913Z
LAST-MODIFIED:20251122T164913Z
UID:10000456-1794047400-1794063600@hceacanada.org
SUMMARY:Annual General Meeting
DESCRIPTION:Join us at the Historical Construction Equipment Association (HCEA) Canada’s Annual General Meeting and Potluck! This event brings together our members\, enthusiasts\, and friends to discuss the past year’s achievements\, future plans\, and share a delicious meal. Come be a part of our vibrant community as we celebrate our passion for preserving and showcasing historical construction equipment. \nThis annual gathering is an excellent opportunity to: \n\nMeet and network with fellow historical equipment enthusiasts\nShare stories and experiences from the past year\nLearn about upcoming HCEA Canada events and initiatives\nEnjoy a diverse and mouthwatering potluck meal\n\nPlease bring a dish to share\, and let’s make this year’s potluck a feast to remember! Don’t forget to invite your friends and family who share an interest in historical construction equipment or simply want to learn more about our association. \nWe look forward to seeing you at this year’s HCEA Canada Annual General Meeting and Potluck. Together\, let’s continue preserving our rich industrial heritage and fostering a strong community of enthusiasts.
URL:https://hceacanada.org/calendar/annual-general-meeting-2/
LOCATION:Simcoe County Museum\, 1151 Highway 26\, Minesing\, Ontario\, L9X 0Z7\, Canada
CATEGORIES:Member Activities
ATTACH;FMTTYPE=image/jpeg:https://hceacanada.org/wp-content/uploads/2022/12/HCEA-Members.jpg
ORGANIZER;CN="HCEA Canada":MAILTO:admin@hceacanada.org
GEO:44.4444354;-79.747991
X-APPLE-STRUCTURED-LOCATION;VALUE=URI;X-ADDRESS=Simcoe County Museum 1151 Highway 26 Minesing Ontario L9X 0Z7 Canada;X-APPLE-RADIUS=500;X-TITLE=1151 Highway 26:geo:-79.747991,44.4444354
END:VEVENT
END:VCALENDAR