BEGIN:VCALENDAR
VERSION:2.0
PRODID:-//HCEA Canada - ECPv6.15.20//NONSGML v1.0//EN
CALSCALE:GREGORIAN
METHOD:PUBLISH
X-WR-CALNAME:HCEA Canada
X-ORIGINAL-URL:https://hceacanada.org
X-WR-CALDESC:Events for HCEA Canada
REFRESH-INTERVAL;VALUE=DURATION:PT1H
X-Robots-Tag:noindex
X-PUBLISHED-TTL:PT1H
BEGIN:VTIMEZONE
TZID:America/Toronto
BEGIN:DAYLIGHT
TZOFFSETFROM:-0500
TZOFFSETTO:-0400
TZNAME:EDT
DTSTART:20210314T070000
END:DAYLIGHT
BEGIN:STANDARD
TZOFFSETFROM:-0400
TZOFFSETTO:-0500
TZNAME:EST
DTSTART:20211107T060000
END:STANDARD
BEGIN:DAYLIGHT
TZOFFSETFROM:-0500
TZOFFSETTO:-0400
TZNAME:EDT
DTSTART:20220313T070000
END:DAYLIGHT
BEGIN:STANDARD
TZOFFSETFROM:-0400
TZOFFSETTO:-0500
TZNAME:EST
DTSTART:20221106T060000
END:STANDARD
BEGIN:DAYLIGHT
TZOFFSETFROM:-0500
TZOFFSETTO:-0400
TZNAME:EDT
DTSTART:20230312T070000
END:DAYLIGHT
BEGIN:STANDARD
TZOFFSETFROM:-0400
TZOFFSETTO:-0500
TZNAME:EST
DTSTART:20231105T060000
END:STANDARD
END:VTIMEZONE
BEGIN:VEVENT
DTSTART;TZID=America/Toronto:20220909T080000
DTEND;TZID=America/Toronto:20220909T160000
DTSTAMP:20260421T130034
CREATED:20190425T150414Z
LAST-MODIFIED:20190425T150414Z
UID:10000035-1662710400-1662739200@hceacanada.org
SUMMARY:Huron Pioneer Thresher & Hobby Show
DESCRIPTION:Show Hours:\n8:00 AM to 4:00 PM Daily \nAdmission:\nGeneral Admission: $10.00\nChildren 12 & under $2.00\nFREE when accompanied by an adult \nFriday Only Special:\nSeniors Admission: $8.00
URL:https://hceacanada.org/calendar/huron-pioneer-thresher-hobby-show/2022-09-09/
LOCATION:Blyth Steam Show\, 86 Blyth Rd\, Walton\, Ontario\, N0K 1Z0\, Canada
ATTACH;FMTTYPE=image/jpeg:https://hceacanada.org/wp-content/uploads/2019/04/blyth.jpg
ORGANIZER;CN="Huron Pioneer Thresher & Hobby Association":MAILTO:info@hptha.com
END:VEVENT
BEGIN:VEVENT
DTSTART;TZID=America/Toronto:20220909T080000
DTEND;TZID=America/Toronto:20220909T170000
DTSTAMP:20260421T130034
CREATED:20190425T150414Z
LAST-MODIFIED:20240318T145925Z
UID:10000123-1662710400-1662742800@hceacanada.org
SUMMARY:Huron Pioneer Thresher & Hobby Show
DESCRIPTION:Discover the rich history of agriculture\, threshing\, and handcrafted hobbies at the Huron Pioneer Thresher & Hobby Show event series\, offering excitement\, learning\, and fun for the whole family. \nEstablished in 1962 by steam engine and threshing machine enthusiasts\, the Huron Pioneer Thresher & Hobby Show has expanded over the years\, adding new exhibits\, enhancing facilities\, and inviting collectors to share their prized possessions and stories. The event now features a wide range of attractions for all ages: \n\nAntique Tractors: Marvel at rows of meticulously restored tractors from various brands\, and catch thrilling tractor pulls on the track.\nAntique Vehicles: Explore a collection of vintage cars and trucks\, and meet their proud owners and drivers.\nIndoor Vendors: Shop for homemade\, handcrafted\, and direct sales items\, as well as event souvenirs\, inside the arena.\nFlea Market: Discover unique treasures\, equipment\, parts\, signs\, toys\, and memorabilia at the antique flea market.\nSpecial Events: Compete in daily 2-person log sawing\, bag tying\, and belt setting contests.\nOutdoor Vendors: Sample homemade treats\, unique items\, and fresh produce from outdoor vendor spaces.\nFiddle & Step Dance Competitions: Enjoy lively fiddle and step dance performances that are fan favorites.\nLive Music: Experience old-time country music on stages\, join jam sessions\, or dance with your partner.\nLifestyles Tent: Attend guest speaker talks\, educational seminars\, interactive demos\, Bingo\, live music\, and more.\nLog Cabin: Tour the 2-storey log cabin featuring artifacts and live quilting demonstrations.\nPetting Zoo: Children can meet farm animals like miniature ponies\, sheep\, pigs\, calves\, rabbits\, ducks\, chickens\, and roosters\, hosted by the Perth County Junior Farmers.\nSteam Engines: Admire various steam engines\, learn about their operation\, and enjoy the daily steam whistle show at noon.\nHorse & Grain/Corn Binder Demonstrations: Observe horses performing different farming tasks.\nLive Threshing: Watch live threshing and hay press demonstrations using antique equipment and tools.\nChildren’s Activities: Entertain kids with pedal tractor pulls\, pioneer games\, crafts\, face painting\, and more!\n\nJoin us at the Huron Pioneer Thresher & Hobby Show event series and share in the fascinating history with your family.
URL:https://hceacanada.org/calendar/huron-pioneer-thresher-hobby-show/2022-09-09/
LOCATION:Blyth Steam Show\, 86 Blyth Rd\, Walton\, Ontario\, N0K 1Z0\, Canada
CATEGORIES:Shows
ATTACH;FMTTYPE=image/jpeg:https://hceacanada.org/wp-content/uploads/2019/04/blyth.jpg
ORGANIZER;CN="Huron Pioneer Thresher & Hobby Association":MAILTO:info@hptha.com
END:VEVENT
BEGIN:VEVENT
DTSTART;TZID=America/Toronto:20220910T080000
DTEND;TZID=America/Toronto:20220910T160000
DTSTAMP:20260421T130034
CREATED:20190425T150414Z
LAST-MODIFIED:20190425T150414Z
UID:10000036-1662796800-1662825600@hceacanada.org
SUMMARY:Huron Pioneer Thresher & Hobby Show
DESCRIPTION:Show Hours:\n8:00 AM to 4:00 PM Daily \nAdmission:\nGeneral Admission: $10.00\nChildren 12 & under $2.00\nFREE when accompanied by an adult \nFriday Only Special:\nSeniors Admission: $8.00
URL:https://hceacanada.org/calendar/huron-pioneer-thresher-hobby-show/2022-09-10/
LOCATION:Blyth Steam Show\, 86 Blyth Rd\, Walton\, Ontario\, N0K 1Z0\, Canada
ATTACH;FMTTYPE=image/jpeg:https://hceacanada.org/wp-content/uploads/2019/04/blyth.jpg
ORGANIZER;CN="Huron Pioneer Thresher & Hobby Association":MAILTO:info@hptha.com
END:VEVENT
BEGIN:VEVENT
DTSTART;TZID=America/Toronto:20220910T080000
DTEND;TZID=America/Toronto:20220910T170000
DTSTAMP:20260421T130034
CREATED:20190425T150414Z
LAST-MODIFIED:20240318T145925Z
UID:10000124-1662796800-1662829200@hceacanada.org
SUMMARY:Huron Pioneer Thresher & Hobby Show
DESCRIPTION:Discover the rich history of agriculture\, threshing\, and handcrafted hobbies at the Huron Pioneer Thresher & Hobby Show event series\, offering excitement\, learning\, and fun for the whole family. \nEstablished in 1962 by steam engine and threshing machine enthusiasts\, the Huron Pioneer Thresher & Hobby Show has expanded over the years\, adding new exhibits\, enhancing facilities\, and inviting collectors to share their prized possessions and stories. The event now features a wide range of attractions for all ages: \n\nAntique Tractors: Marvel at rows of meticulously restored tractors from various brands\, and catch thrilling tractor pulls on the track.\nAntique Vehicles: Explore a collection of vintage cars and trucks\, and meet their proud owners and drivers.\nIndoor Vendors: Shop for homemade\, handcrafted\, and direct sales items\, as well as event souvenirs\, inside the arena.\nFlea Market: Discover unique treasures\, equipment\, parts\, signs\, toys\, and memorabilia at the antique flea market.\nSpecial Events: Compete in daily 2-person log sawing\, bag tying\, and belt setting contests.\nOutdoor Vendors: Sample homemade treats\, unique items\, and fresh produce from outdoor vendor spaces.\nFiddle & Step Dance Competitions: Enjoy lively fiddle and step dance performances that are fan favorites.\nLive Music: Experience old-time country music on stages\, join jam sessions\, or dance with your partner.\nLifestyles Tent: Attend guest speaker talks\, educational seminars\, interactive demos\, Bingo\, live music\, and more.\nLog Cabin: Tour the 2-storey log cabin featuring artifacts and live quilting demonstrations.\nPetting Zoo: Children can meet farm animals like miniature ponies\, sheep\, pigs\, calves\, rabbits\, ducks\, chickens\, and roosters\, hosted by the Perth County Junior Farmers.\nSteam Engines: Admire various steam engines\, learn about their operation\, and enjoy the daily steam whistle show at noon.\nHorse & Grain/Corn Binder Demonstrations: Observe horses performing different farming tasks.\nLive Threshing: Watch live threshing and hay press demonstrations using antique equipment and tools.\nChildren’s Activities: Entertain kids with pedal tractor pulls\, pioneer games\, crafts\, face painting\, and more!\n\nJoin us at the Huron Pioneer Thresher & Hobby Show event series and share in the fascinating history with your family.
URL:https://hceacanada.org/calendar/huron-pioneer-thresher-hobby-show/2022-09-10/
LOCATION:Blyth Steam Show\, 86 Blyth Rd\, Walton\, Ontario\, N0K 1Z0\, Canada
CATEGORIES:Shows
ATTACH;FMTTYPE=image/jpeg:https://hceacanada.org/wp-content/uploads/2019/04/blyth.jpg
ORGANIZER;CN="Huron Pioneer Thresher & Hobby Association":MAILTO:info@hptha.com
END:VEVENT
BEGIN:VEVENT
DTSTART;TZID=America/Toronto:20220911T080000
DTEND;TZID=America/Toronto:20220911T160000
DTSTAMP:20260421T130034
CREATED:20190425T150414Z
LAST-MODIFIED:20190425T150414Z
UID:10000037-1662883200-1662912000@hceacanada.org
SUMMARY:Huron Pioneer Thresher & Hobby Show
DESCRIPTION:Show Hours:\n8:00 AM to 4:00 PM Daily \nAdmission:\nGeneral Admission: $10.00\nChildren 12 & under $2.00\nFREE when accompanied by an adult \nFriday Only Special:\nSeniors Admission: $8.00
URL:https://hceacanada.org/calendar/huron-pioneer-thresher-hobby-show/2022-09-11/
LOCATION:Blyth Steam Show\, 86 Blyth Rd\, Walton\, Ontario\, N0K 1Z0\, Canada
ATTACH;FMTTYPE=image/jpeg:https://hceacanada.org/wp-content/uploads/2019/04/blyth.jpg
ORGANIZER;CN="Huron Pioneer Thresher & Hobby Association":MAILTO:info@hptha.com
END:VEVENT
BEGIN:VEVENT
DTSTART;TZID=America/Toronto:20220911T080000
DTEND;TZID=America/Toronto:20220911T170000
DTSTAMP:20260421T130034
CREATED:20190425T150414Z
LAST-MODIFIED:20240318T145925Z
UID:10000125-1662883200-1662915600@hceacanada.org
SUMMARY:Huron Pioneer Thresher & Hobby Show
DESCRIPTION:Discover the rich history of agriculture\, threshing\, and handcrafted hobbies at the Huron Pioneer Thresher & Hobby Show event series\, offering excitement\, learning\, and fun for the whole family. \nEstablished in 1962 by steam engine and threshing machine enthusiasts\, the Huron Pioneer Thresher & Hobby Show has expanded over the years\, adding new exhibits\, enhancing facilities\, and inviting collectors to share their prized possessions and stories. The event now features a wide range of attractions for all ages: \n\nAntique Tractors: Marvel at rows of meticulously restored tractors from various brands\, and catch thrilling tractor pulls on the track.\nAntique Vehicles: Explore a collection of vintage cars and trucks\, and meet their proud owners and drivers.\nIndoor Vendors: Shop for homemade\, handcrafted\, and direct sales items\, as well as event souvenirs\, inside the arena.\nFlea Market: Discover unique treasures\, equipment\, parts\, signs\, toys\, and memorabilia at the antique flea market.\nSpecial Events: Compete in daily 2-person log sawing\, bag tying\, and belt setting contests.\nOutdoor Vendors: Sample homemade treats\, unique items\, and fresh produce from outdoor vendor spaces.\nFiddle & Step Dance Competitions: Enjoy lively fiddle and step dance performances that are fan favorites.\nLive Music: Experience old-time country music on stages\, join jam sessions\, or dance with your partner.\nLifestyles Tent: Attend guest speaker talks\, educational seminars\, interactive demos\, Bingo\, live music\, and more.\nLog Cabin: Tour the 2-storey log cabin featuring artifacts and live quilting demonstrations.\nPetting Zoo: Children can meet farm animals like miniature ponies\, sheep\, pigs\, calves\, rabbits\, ducks\, chickens\, and roosters\, hosted by the Perth County Junior Farmers.\nSteam Engines: Admire various steam engines\, learn about their operation\, and enjoy the daily steam whistle show at noon.\nHorse & Grain/Corn Binder Demonstrations: Observe horses performing different farming tasks.\nLive Threshing: Watch live threshing and hay press demonstrations using antique equipment and tools.\nChildren’s Activities: Entertain kids with pedal tractor pulls\, pioneer games\, crafts\, face painting\, and more!\n\nJoin us at the Huron Pioneer Thresher & Hobby Show event series and share in the fascinating history with your family.
URL:https://hceacanada.org/calendar/huron-pioneer-thresher-hobby-show/2022-09-11/
LOCATION:Blyth Steam Show\, 86 Blyth Rd\, Walton\, Ontario\, N0K 1Z0\, Canada
CATEGORIES:Shows
ATTACH;FMTTYPE=image/jpeg:https://hceacanada.org/wp-content/uploads/2019/04/blyth.jpg
ORGANIZER;CN="Huron Pioneer Thresher & Hobby Association":MAILTO:info@hptha.com
END:VEVENT
END:VCALENDAR