BEGIN:VCALENDAR
VERSION:2.0
PRODID:-//HCEA Canada - ECPv6.15.20//NONSGML v1.0//EN
CALSCALE:GREGORIAN
METHOD:PUBLISH
X-WR-CALNAME:HCEA Canada
X-ORIGINAL-URL:https://hceacanada.org
X-WR-CALDESC:Events for HCEA Canada
REFRESH-INTERVAL;VALUE=DURATION:PT1H
X-Robots-Tag:noindex
X-PUBLISHED-TTL:PT1H
BEGIN:VTIMEZONE
TZID:America/Toronto
BEGIN:DAYLIGHT
TZOFFSETFROM:-0500
TZOFFSETTO:-0400
TZNAME:EDT
DTSTART:20220313T070000
END:DAYLIGHT
BEGIN:STANDARD
TZOFFSETFROM:-0400
TZOFFSETTO:-0500
TZNAME:EST
DTSTART:20221106T060000
END:STANDARD
BEGIN:DAYLIGHT
TZOFFSETFROM:-0500
TZOFFSETTO:-0400
TZNAME:EDT
DTSTART:20230312T070000
END:DAYLIGHT
BEGIN:STANDARD
TZOFFSETFROM:-0400
TZOFFSETTO:-0500
TZNAME:EST
DTSTART:20231105T060000
END:STANDARD
BEGIN:DAYLIGHT
TZOFFSETFROM:-0500
TZOFFSETTO:-0400
TZNAME:EDT
DTSTART:20240310T070000
END:DAYLIGHT
BEGIN:STANDARD
TZOFFSETFROM:-0400
TZOFFSETTO:-0500
TZNAME:EST
DTSTART:20241103T060000
END:STANDARD
END:VTIMEZONE
BEGIN:VEVENT
DTSTART;TZID=America/Toronto:20230707T170000
DTEND;TZID=America/Toronto:20230707T220000
DTSTAMP:20260420T221230
CREATED:20230423T150900Z
LAST-MODIFIED:20240316T145352Z
UID:10000078-1688749200-1688767200@hceacanada.org
SUMMARY:Muskoka Pioneer Power
DESCRIPTION:Get ready for an unforgettable and colorful experience at the Muskoka Pioneer Power Show 2023\, hosted at the J.D. Lang Activity Park in Bracebridge! This year’s All Colours Event showcases the incredible diversity and vibrancy of antique machinery\, making it a must-attend event for the whole family. \nJoin us on the weekend of August 7th for a day filled with exciting attractions\, including: \n\nAll Colours Display: Marvel at the stunning assortment of antique machinery and vehicles\, proudly presented in a wide array of colors.\nHeritage Display Rooms: Explore fascinating exhibits that celebrate the rich history of Muskoka Pioneer Power.\nLive Demonstrations: Witness the power and precision of the Waterous Saw Mill\, the Mowry Shingle Mill\, and the skilled artisans at the log cabin and blacksmith shop.\nEngine and Tractor Showcases: Admire the impressive collection of antique internal combustion engines\, steam engines\, and farm tractors.\nCountry Store: Discover unique souvenirs and vintage treasures at the charming country store.\nAntique Tractor Pulls: Enjoy the excitement of antique tractor pulls\, showcasing the power and capabilities of these vintage machines.\nClassic & Antique Vehicle Exhibits: Wander through the showcase of beautifully preserved classic and antique automobiles.\nGrand Parade: Conclude your day at the Muskoka Pioneer Power Show 2023 with a spectacular grand parade\, featuring all the incredible antique machinery and vehicles on display.\n\nThe Muskoka Pioneer Power Association continues its mission to bring together individuals with a passion for antique engines\, automobiles\, farm tractors\, models\, and farm and forest equipment. The association fosters information exchange and provides assistance in preserving and operating historically valuable machinery. \nDon’t miss the opportunity to be a part of this year’s vibrant and captivating event. Mark your calendars and join us at the Muskoka Pioneer Power Show 2023 for a day filled with family fun\, learning\, and unforgettable memories! \n\nGates open\nFri. 5:00 pm \nSat. 7:00 am \nSun. 7:00 am. \nFree parking. \nMUSICAL ENTERTAINMENT – SATURDAY & SUNDAY \nANTIQUE TRACTOR PULLS –SATURDAY \nPANCAKE & SAUSAGE / PEAMEAL BREAKFAST – 7:00 – 10:00 AM (SAT & SUN) \nROAST BEEF DINNER – SATURDAY NIGHT  $ 15.00 \nCOUNTRY\, LINE  & SQUARE DANCE – SATURDAY @ 7:00 PM
URL:https://hceacanada.org/calendar/muskoka-pioneer-power/2023-07-07/
LOCATION:JD Lang Activity Park\, 27 Gray Rd\, Bracebridge\, Ontario\, P1L 1P8\, Canada
ATTACH;FMTTYPE=image/jpeg:https://hceacanada.org/wp-content/uploads/2018/04/bracebridge.jpg
END:VEVENT
BEGIN:VEVENT
DTSTART;TZID=America/Toronto:20230708T070000
DTEND;TZID=America/Toronto:20230708T220000
DTSTAMP:20260420T221230
CREATED:20230423T150900Z
LAST-MODIFIED:20240316T145352Z
UID:10000079-1688799600-1688853600@hceacanada.org
SUMMARY:Muskoka Pioneer Power
DESCRIPTION:Get ready for an unforgettable and colorful experience at the Muskoka Pioneer Power Show 2023\, hosted at the J.D. Lang Activity Park in Bracebridge! This year’s All Colours Event showcases the incredible diversity and vibrancy of antique machinery\, making it a must-attend event for the whole family. \nJoin us on the weekend of August 7th for a day filled with exciting attractions\, including: \n\nAll Colours Display: Marvel at the stunning assortment of antique machinery and vehicles\, proudly presented in a wide array of colors.\nHeritage Display Rooms: Explore fascinating exhibits that celebrate the rich history of Muskoka Pioneer Power.\nLive Demonstrations: Witness the power and precision of the Waterous Saw Mill\, the Mowry Shingle Mill\, and the skilled artisans at the log cabin and blacksmith shop.\nEngine and Tractor Showcases: Admire the impressive collection of antique internal combustion engines\, steam engines\, and farm tractors.\nCountry Store: Discover unique souvenirs and vintage treasures at the charming country store.\nAntique Tractor Pulls: Enjoy the excitement of antique tractor pulls\, showcasing the power and capabilities of these vintage machines.\nClassic & Antique Vehicle Exhibits: Wander through the showcase of beautifully preserved classic and antique automobiles.\nGrand Parade: Conclude your day at the Muskoka Pioneer Power Show 2023 with a spectacular grand parade\, featuring all the incredible antique machinery and vehicles on display.\n\nThe Muskoka Pioneer Power Association continues its mission to bring together individuals with a passion for antique engines\, automobiles\, farm tractors\, models\, and farm and forest equipment. The association fosters information exchange and provides assistance in preserving and operating historically valuable machinery. \nDon’t miss the opportunity to be a part of this year’s vibrant and captivating event. Mark your calendars and join us at the Muskoka Pioneer Power Show 2023 for a day filled with family fun\, learning\, and unforgettable memories! \n\nGates open\nFri. 5:00 pm \nSat. 7:00 am \nSun. 7:00 am. \nFree parking. \nMUSICAL ENTERTAINMENT – SATURDAY & SUNDAY \nANTIQUE TRACTOR PULLS –SATURDAY \nPANCAKE & SAUSAGE / PEAMEAL BREAKFAST – 7:00 – 10:00 AM (SAT & SUN) \nROAST BEEF DINNER – SATURDAY NIGHT  $ 15.00 \nCOUNTRY\, LINE  & SQUARE DANCE – SATURDAY @ 7:00 PM
URL:https://hceacanada.org/calendar/muskoka-pioneer-power/2023-07-08/
LOCATION:JD Lang Activity Park\, 27 Gray Rd\, Bracebridge\, Ontario\, P1L 1P8\, Canada
ATTACH;FMTTYPE=image/jpeg:https://hceacanada.org/wp-content/uploads/2018/04/bracebridge.jpg
END:VEVENT
BEGIN:VEVENT
DTSTART;TZID=America/Toronto:20230709T070000
DTEND;TZID=America/Toronto:20230709T220000
DTSTAMP:20260420T221230
CREATED:20230423T150900Z
LAST-MODIFIED:20240316T145352Z
UID:10000080-1688886000-1688940000@hceacanada.org
SUMMARY:Muskoka Pioneer Power
DESCRIPTION:Get ready for an unforgettable and colorful experience at the Muskoka Pioneer Power Show 2023\, hosted at the J.D. Lang Activity Park in Bracebridge! This year’s All Colours Event showcases the incredible diversity and vibrancy of antique machinery\, making it a must-attend event for the whole family. \nJoin us on the weekend of August 7th for a day filled with exciting attractions\, including: \n\nAll Colours Display: Marvel at the stunning assortment of antique machinery and vehicles\, proudly presented in a wide array of colors.\nHeritage Display Rooms: Explore fascinating exhibits that celebrate the rich history of Muskoka Pioneer Power.\nLive Demonstrations: Witness the power and precision of the Waterous Saw Mill\, the Mowry Shingle Mill\, and the skilled artisans at the log cabin and blacksmith shop.\nEngine and Tractor Showcases: Admire the impressive collection of antique internal combustion engines\, steam engines\, and farm tractors.\nCountry Store: Discover unique souvenirs and vintage treasures at the charming country store.\nAntique Tractor Pulls: Enjoy the excitement of antique tractor pulls\, showcasing the power and capabilities of these vintage machines.\nClassic & Antique Vehicle Exhibits: Wander through the showcase of beautifully preserved classic and antique automobiles.\nGrand Parade: Conclude your day at the Muskoka Pioneer Power Show 2023 with a spectacular grand parade\, featuring all the incredible antique machinery and vehicles on display.\n\nThe Muskoka Pioneer Power Association continues its mission to bring together individuals with a passion for antique engines\, automobiles\, farm tractors\, models\, and farm and forest equipment. The association fosters information exchange and provides assistance in preserving and operating historically valuable machinery. \nDon’t miss the opportunity to be a part of this year’s vibrant and captivating event. Mark your calendars and join us at the Muskoka Pioneer Power Show 2023 for a day filled with family fun\, learning\, and unforgettable memories! \n\nGates open\nFri. 5:00 pm \nSat. 7:00 am \nSun. 7:00 am. \nFree parking. \nMUSICAL ENTERTAINMENT – SATURDAY & SUNDAY \nANTIQUE TRACTOR PULLS –SATURDAY \nPANCAKE & SAUSAGE / PEAMEAL BREAKFAST – 7:00 – 10:00 AM (SAT & SUN) \nROAST BEEF DINNER – SATURDAY NIGHT  $ 15.00 \nCOUNTRY\, LINE  & SQUARE DANCE – SATURDAY @ 7:00 PM
URL:https://hceacanada.org/calendar/muskoka-pioneer-power/2023-07-09/
LOCATION:JD Lang Activity Park\, 27 Gray Rd\, Bracebridge\, Ontario\, P1L 1P8\, Canada
ATTACH;FMTTYPE=image/jpeg:https://hceacanada.org/wp-content/uploads/2018/04/bracebridge.jpg
END:VEVENT
END:VCALENDAR