BEGIN:VCALENDAR
VERSION:2.0
PRODID:-//HCEA Canada - ECPv6.15.20//NONSGML v1.0//EN
CALSCALE:GREGORIAN
METHOD:PUBLISH
X-ORIGINAL-URL:https://hceacanada.org
X-WR-CALDESC:Events for HCEA Canada
REFRESH-INTERVAL;VALUE=DURATION:PT1H
X-Robots-Tag:noindex
X-PUBLISHED-TTL:PT1H
BEGIN:VTIMEZONE
TZID:America/Toronto
BEGIN:DAYLIGHT
TZOFFSETFROM:-0500
TZOFFSETTO:-0400
TZNAME:EDT
DTSTART:20220313T070000
END:DAYLIGHT
BEGIN:STANDARD
TZOFFSETFROM:-0400
TZOFFSETTO:-0500
TZNAME:EST
DTSTART:20221106T060000
END:STANDARD
BEGIN:DAYLIGHT
TZOFFSETFROM:-0500
TZOFFSETTO:-0400
TZNAME:EDT
DTSTART:20230312T070000
END:DAYLIGHT
BEGIN:STANDARD
TZOFFSETFROM:-0400
TZOFFSETTO:-0500
TZNAME:EST
DTSTART:20231105T060000
END:STANDARD
BEGIN:DAYLIGHT
TZOFFSETFROM:-0500
TZOFFSETTO:-0400
TZNAME:EDT
DTSTART:20240310T070000
END:DAYLIGHT
BEGIN:STANDARD
TZOFFSETFROM:-0400
TZOFFSETTO:-0500
TZNAME:EST
DTSTART:20241103T060000
END:STANDARD
END:VTIMEZONE
BEGIN:VEVENT
DTSTART;TZID=America/Toronto:20231014T100000
DTEND;TZID=America/Toronto:20231014T160000
DTSTAMP:20260420T180227
CREATED:20180413T211503Z
LAST-MODIFIED:20240930T140406Z
UID:10000041-1697277600-1697299200@hceacanada.org
SUMMARY:Last Blast
DESCRIPTION:Start your engines and head to the Simcoe County Museum for one of the largest displays of working historic construction equipment in Canada! The Simcoe County Museum and the Historical Construction Equipment Association present our annual Last Blast at the Simcoe County Museum.\nRide out to the gravel pits on a people mover for a tour. See live demonstrations of steam powered equipment\, vintage road building\, rock crushing\, grading\, hoisting and much more. Wander through the displays of vintage tractors\, classic trucks and other historic equipment set up around the Museum grounds. Each year we power up pieces of our heritage equipment for one last blast before the winter\, and you are invited to come see it. This is a family event guaranteed to rev up the inner child in everyone!The Simcoe County Museum is located at 1151 Highway 26\, Minesing\, just minutes north of Barrie. Event rates apply:\n\n\n\n$8 Adults\n$7 Students/Seniors\n$6 Children\n$0 Preschoolers
URL:https://hceacanada.org/calendar/last-blast/2023-10-14/
LOCATION:Simcoe County Museum\, 1151 Highway 26\, Minesing\, Ontario\, L9X 0Z7\, Canada
ATTACH;FMTTYPE=image/jpeg:https://hceacanada.org/wp-content/uploads/2023/04/HCEA-11.jpg
ORGANIZER;CN="HCEA Canada":MAILTO:admin@hceacanada.org
GEO:44.4444354;-79.747991
X-APPLE-STRUCTURED-LOCATION;VALUE=URI;X-ADDRESS=Simcoe County Museum 1151 Highway 26 Minesing Ontario L9X 0Z7 Canada;X-APPLE-RADIUS=500;X-TITLE=1151 Highway 26:geo:-79.747991,44.4444354
END:VEVENT
END:VCALENDAR