BEGIN:VCALENDAR
VERSION:2.0
PRODID:-//HCEA Canada - ECPv6.15.20//NONSGML v1.0//EN
CALSCALE:GREGORIAN
METHOD:PUBLISH
X-ORIGINAL-URL:https://hceacanada.org
X-WR-CALDESC:Events for HCEA Canada
REFRESH-INTERVAL;VALUE=DURATION:PT1H
X-Robots-Tag:noindex
X-PUBLISHED-TTL:PT1H
BEGIN:VTIMEZONE
TZID:America/Toronto
BEGIN:DAYLIGHT
TZOFFSETFROM:-0500
TZOFFSETTO:-0400
TZNAME:EDT
DTSTART:20230312T070000
END:DAYLIGHT
BEGIN:STANDARD
TZOFFSETFROM:-0400
TZOFFSETTO:-0500
TZNAME:EST
DTSTART:20231105T060000
END:STANDARD
BEGIN:DAYLIGHT
TZOFFSETFROM:-0500
TZOFFSETTO:-0400
TZNAME:EDT
DTSTART:20240310T070000
END:DAYLIGHT
BEGIN:STANDARD
TZOFFSETFROM:-0400
TZOFFSETTO:-0500
TZNAME:EST
DTSTART:20241103T060000
END:STANDARD
BEGIN:DAYLIGHT
TZOFFSETFROM:-0500
TZOFFSETTO:-0400
TZNAME:EDT
DTSTART:20250309T070000
END:DAYLIGHT
BEGIN:STANDARD
TZOFFSETFROM:-0400
TZOFFSETTO:-0500
TZNAME:EST
DTSTART:20251102T060000
END:STANDARD
END:VTIMEZONE
BEGIN:VEVENT
DTSTART;TZID=America/Toronto:20240703T100000
DTEND;TZID=America/Toronto:20240703T200000
DTSTAMP:20260420T042539
CREATED:20240318T131144Z
LAST-MODIFIED:20240318T173817Z
UID:10000147-1720000800-1720036800@hceacanada.org
SUMMARY:HCEA Work Day
DESCRIPTION:Join Us for Work Days at the Museum! \nStart Date: April 3rd\, Wednesday – Mark your calendars for the kickoff of our volunteer activities at the museum! \nTime: Dive into action anytime from 10 AM to 8 PM. Please note\, timings and days may adjust based on specific tasks and weather conditions. \nFrequency: Every Wednesday from April to November (excluding certain dates). This recurring schedule gives you plenty of opportunities to get involved at times that best suit you. \nGet Involved: Whether you’re a seasoned member or new to our community\, we welcome your enthusiasm and skills! To learn more about the specific activities planned and how you can contribute\, please reach out to our dedicated Volunteer Coordinator. Check out our current projects on the Restoration Page. \nDon’t miss this chance to make a difference\, connect with fellow members\, and contribute to our museum’s success. We’re excited to see you there!
URL:https://hceacanada.org/calendar/hcea-work-day/2024-07-03/
LOCATION:Simcoe County Museum\, 1151 Highway 26\, Minesing\, Ontario\, L9X 0Z7\, Canada
CATEGORIES:Member Activities,Work Nights
ATTACH;FMTTYPE=image/jpeg:https://hceacanada.org/wp-content/uploads/2024/03/1000005887-jpg.webp
ORGANIZER;CN="Don Morton":MAILTO:hcea.canada@gmail.com
GEO:44.4444354;-79.747991
X-APPLE-STRUCTURED-LOCATION;VALUE=URI;X-ADDRESS=Simcoe County Museum 1151 Highway 26 Minesing Ontario L9X 0Z7 Canada;X-APPLE-RADIUS=500;X-TITLE=1151 Highway 26:geo:-79.747991,44.4444354
END:VEVENT
BEGIN:VEVENT
DTSTART;TZID=America/Toronto:20240705T080000
DTEND;TZID=America/Toronto:20240705T170000
DTSTAMP:20260420T042539
CREATED:20240318T135827Z
LAST-MODIFIED:20240318T153909Z
UID:10000131-1720166400-1720198800@hceacanada.org
SUMMARY:Muskoka Pioneer Power
DESCRIPTION:Immerse Yourself in the Past at the Muskoka Pioneer Power Show 2024! \nGear up for a weekend of heritage and machinery at the Muskoka Pioneer Power Show\, set against the backdrop of the J.D. Lang Activity Park in Bracebridge. This year’s event spotlights the beauty and history of antique machinery in an explosion of colours. \nEvent Dates: \n\nFriday: Gates open at 5:00 PM\nSaturday & Sunday: Start bright and early at 7:00 AM\n\nAttractions and Highlights: \n\nAllis Chalmers Feature\nHeritage Display Rooms: Step into the past with exhibits celebrating Muskoka Pioneer Power’s storied history.\nLive Demonstrations: Be captivated by the operation of the Waterous Saw Mill\, Mowry Shingle Mill\, and witness craftsmanship at the log cabin and blacksmith shop.\nEngine and Tractor Showcases: A robust collection of antique engines and tractors on display.\nCountry Store: Your destination for unique souvenirs and vintage finds.\nAntique Tractor Pulls: Feel the excitement and raw power on Saturday.\nClassic & Antique Vehicle Exhibits: Stroll through an exhibition of pristine classic and vintage automobiles.\nGrand Parade: The grand finale each day featuring a parade of all showcased machinery and vehicles.\n\nSpecial Events: \n\nPancake & Sausage/Peameal Breakfast: Fuel up from 7:00 – 10:00 AM on both Saturday and Sunday.\nRoast Beef Dinner: Indulge in a hearty meal on Saturday night for $15.00.\nDance the Night Away: Saturday at 7:00 PM\, join us for country\, line\, and square dancing.\n\nJoin the Community: The Muskoka Pioneer Power Association is dedicated to uniting antique machinery enthusiasts and preserving the legacy of historical machinery. Share knowledge\, celebrate history\, and enjoy the camaraderie at our vibrant event. \nAdditional Details: \n\nFree Parking: Convenient and complimentary for all attendees.\nMusical Entertainment: Enjoy live music setting the soundtrack for your weekend.\n\nDon’t miss out on this celebration of Muskoka’s rich machinery heritage. For a full schedule\, visit Muskoka Pioneer Power’s website. Mark your calendars for an eventful weekend of family fun\, nostalgia\, and the power of pioneering spirit at the Muskoka Pioneer Power Show 2024!
URL:https://hceacanada.org/calendar/muskoka-pioneer-power-2/2024-07-05/
LOCATION:JD Lang Activity Park\, 27 Gray Rd\, Bracebridge\, Ontario\, P1L 1P8\, Canada
CATEGORIES:Shows
ATTACH;FMTTYPE=image/jpeg:https://hceacanada.org/wp-content/uploads/2018/04/bracebridge.jpg
END:VEVENT
BEGIN:VEVENT
DTSTART;TZID=America/Toronto:20240706T080000
DTEND;TZID=America/Toronto:20240706T170000
DTSTAMP:20260420T042539
CREATED:20240318T135827Z
LAST-MODIFIED:20240318T153909Z
UID:10000132-1720252800-1720285200@hceacanada.org
SUMMARY:Muskoka Pioneer Power
DESCRIPTION:Immerse Yourself in the Past at the Muskoka Pioneer Power Show 2024! \nGear up for a weekend of heritage and machinery at the Muskoka Pioneer Power Show\, set against the backdrop of the J.D. Lang Activity Park in Bracebridge. This year’s event spotlights the beauty and history of antique machinery in an explosion of colours. \nEvent Dates: \n\nFriday: Gates open at 5:00 PM\nSaturday & Sunday: Start bright and early at 7:00 AM\n\nAttractions and Highlights: \n\nAllis Chalmers Feature\nHeritage Display Rooms: Step into the past with exhibits celebrating Muskoka Pioneer Power’s storied history.\nLive Demonstrations: Be captivated by the operation of the Waterous Saw Mill\, Mowry Shingle Mill\, and witness craftsmanship at the log cabin and blacksmith shop.\nEngine and Tractor Showcases: A robust collection of antique engines and tractors on display.\nCountry Store: Your destination for unique souvenirs and vintage finds.\nAntique Tractor Pulls: Feel the excitement and raw power on Saturday.\nClassic & Antique Vehicle Exhibits: Stroll through an exhibition of pristine classic and vintage automobiles.\nGrand Parade: The grand finale each day featuring a parade of all showcased machinery and vehicles.\n\nSpecial Events: \n\nPancake & Sausage/Peameal Breakfast: Fuel up from 7:00 – 10:00 AM on both Saturday and Sunday.\nRoast Beef Dinner: Indulge in a hearty meal on Saturday night for $15.00.\nDance the Night Away: Saturday at 7:00 PM\, join us for country\, line\, and square dancing.\n\nJoin the Community: The Muskoka Pioneer Power Association is dedicated to uniting antique machinery enthusiasts and preserving the legacy of historical machinery. Share knowledge\, celebrate history\, and enjoy the camaraderie at our vibrant event. \nAdditional Details: \n\nFree Parking: Convenient and complimentary for all attendees.\nMusical Entertainment: Enjoy live music setting the soundtrack for your weekend.\n\nDon’t miss out on this celebration of Muskoka’s rich machinery heritage. For a full schedule\, visit Muskoka Pioneer Power’s website. Mark your calendars for an eventful weekend of family fun\, nostalgia\, and the power of pioneering spirit at the Muskoka Pioneer Power Show 2024!
URL:https://hceacanada.org/calendar/muskoka-pioneer-power-2/2024-07-06/
LOCATION:JD Lang Activity Park\, 27 Gray Rd\, Bracebridge\, Ontario\, P1L 1P8\, Canada
CATEGORIES:Shows
ATTACH;FMTTYPE=image/jpeg:https://hceacanada.org/wp-content/uploads/2018/04/bracebridge.jpg
END:VEVENT
BEGIN:VEVENT
DTSTART;TZID=America/Toronto:20240707T080000
DTEND;TZID=America/Toronto:20240707T170000
DTSTAMP:20260420T042539
CREATED:20240318T135827Z
LAST-MODIFIED:20240318T153909Z
UID:10000133-1720339200-1720371600@hceacanada.org
SUMMARY:Muskoka Pioneer Power
DESCRIPTION:Immerse Yourself in the Past at the Muskoka Pioneer Power Show 2024! \nGear up for a weekend of heritage and machinery at the Muskoka Pioneer Power Show\, set against the backdrop of the J.D. Lang Activity Park in Bracebridge. This year’s event spotlights the beauty and history of antique machinery in an explosion of colours. \nEvent Dates: \n\nFriday: Gates open at 5:00 PM\nSaturday & Sunday: Start bright and early at 7:00 AM\n\nAttractions and Highlights: \n\nAllis Chalmers Feature\nHeritage Display Rooms: Step into the past with exhibits celebrating Muskoka Pioneer Power’s storied history.\nLive Demonstrations: Be captivated by the operation of the Waterous Saw Mill\, Mowry Shingle Mill\, and witness craftsmanship at the log cabin and blacksmith shop.\nEngine and Tractor Showcases: A robust collection of antique engines and tractors on display.\nCountry Store: Your destination for unique souvenirs and vintage finds.\nAntique Tractor Pulls: Feel the excitement and raw power on Saturday.\nClassic & Antique Vehicle Exhibits: Stroll through an exhibition of pristine classic and vintage automobiles.\nGrand Parade: The grand finale each day featuring a parade of all showcased machinery and vehicles.\n\nSpecial Events: \n\nPancake & Sausage/Peameal Breakfast: Fuel up from 7:00 – 10:00 AM on both Saturday and Sunday.\nRoast Beef Dinner: Indulge in a hearty meal on Saturday night for $15.00.\nDance the Night Away: Saturday at 7:00 PM\, join us for country\, line\, and square dancing.\n\nJoin the Community: The Muskoka Pioneer Power Association is dedicated to uniting antique machinery enthusiasts and preserving the legacy of historical machinery. Share knowledge\, celebrate history\, and enjoy the camaraderie at our vibrant event. \nAdditional Details: \n\nFree Parking: Convenient and complimentary for all attendees.\nMusical Entertainment: Enjoy live music setting the soundtrack for your weekend.\n\nDon’t miss out on this celebration of Muskoka’s rich machinery heritage. For a full schedule\, visit Muskoka Pioneer Power’s website. Mark your calendars for an eventful weekend of family fun\, nostalgia\, and the power of pioneering spirit at the Muskoka Pioneer Power Show 2024!
URL:https://hceacanada.org/calendar/muskoka-pioneer-power-2/2024-07-07/
LOCATION:JD Lang Activity Park\, 27 Gray Rd\, Bracebridge\, Ontario\, P1L 1P8\, Canada
CATEGORIES:Shows
ATTACH;FMTTYPE=image/jpeg:https://hceacanada.org/wp-content/uploads/2018/04/bracebridge.jpg
END:VEVENT
BEGIN:VEVENT
DTSTART;TZID=America/Toronto:20240710T100000
DTEND;TZID=America/Toronto:20240710T200000
DTSTAMP:20260420T042539
CREATED:20240318T131144Z
LAST-MODIFIED:20240318T173817Z
UID:10000148-1720605600-1720641600@hceacanada.org
SUMMARY:HCEA Work Day
DESCRIPTION:Join Us for Work Days at the Museum! \nStart Date: April 3rd\, Wednesday – Mark your calendars for the kickoff of our volunteer activities at the museum! \nTime: Dive into action anytime from 10 AM to 8 PM. Please note\, timings and days may adjust based on specific tasks and weather conditions. \nFrequency: Every Wednesday from April to November (excluding certain dates). This recurring schedule gives you plenty of opportunities to get involved at times that best suit you. \nGet Involved: Whether you’re a seasoned member or new to our community\, we welcome your enthusiasm and skills! To learn more about the specific activities planned and how you can contribute\, please reach out to our dedicated Volunteer Coordinator. Check out our current projects on the Restoration Page. \nDon’t miss this chance to make a difference\, connect with fellow members\, and contribute to our museum’s success. We’re excited to see you there!
URL:https://hceacanada.org/calendar/hcea-work-day/2024-07-10/
LOCATION:Simcoe County Museum\, 1151 Highway 26\, Minesing\, Ontario\, L9X 0Z7\, Canada
CATEGORIES:Member Activities,Work Nights
ATTACH;FMTTYPE=image/jpeg:https://hceacanada.org/wp-content/uploads/2024/03/1000005887-jpg.webp
ORGANIZER;CN="Don Morton":MAILTO:hcea.canada@gmail.com
GEO:44.4444354;-79.747991
X-APPLE-STRUCTURED-LOCATION;VALUE=URI;X-ADDRESS=Simcoe County Museum 1151 Highway 26 Minesing Ontario L9X 0Z7 Canada;X-APPLE-RADIUS=500;X-TITLE=1151 Highway 26:geo:-79.747991,44.4444354
END:VEVENT
BEGIN:VEVENT
DTSTART;TZID=America/Toronto:20240717T100000
DTEND;TZID=America/Toronto:20240717T200000
DTSTAMP:20260420T042539
CREATED:20240318T131144Z
LAST-MODIFIED:20240318T173817Z
UID:10000149-1721210400-1721246400@hceacanada.org
SUMMARY:HCEA Work Day
DESCRIPTION:Join Us for Work Days at the Museum! \nStart Date: April 3rd\, Wednesday – Mark your calendars for the kickoff of our volunteer activities at the museum! \nTime: Dive into action anytime from 10 AM to 8 PM. Please note\, timings and days may adjust based on specific tasks and weather conditions. \nFrequency: Every Wednesday from April to November (excluding certain dates). This recurring schedule gives you plenty of opportunities to get involved at times that best suit you. \nGet Involved: Whether you’re a seasoned member or new to our community\, we welcome your enthusiasm and skills! To learn more about the specific activities planned and how you can contribute\, please reach out to our dedicated Volunteer Coordinator. Check out our current projects on the Restoration Page. \nDon’t miss this chance to make a difference\, connect with fellow members\, and contribute to our museum’s success. We’re excited to see you there!
URL:https://hceacanada.org/calendar/hcea-work-day/2024-07-17/
LOCATION:Simcoe County Museum\, 1151 Highway 26\, Minesing\, Ontario\, L9X 0Z7\, Canada
CATEGORIES:Member Activities,Work Nights
ATTACH;FMTTYPE=image/jpeg:https://hceacanada.org/wp-content/uploads/2024/03/1000005887-jpg.webp
ORGANIZER;CN="Don Morton":MAILTO:hcea.canada@gmail.com
GEO:44.4444354;-79.747991
X-APPLE-STRUCTURED-LOCATION;VALUE=URI;X-ADDRESS=Simcoe County Museum 1151 Highway 26 Minesing Ontario L9X 0Z7 Canada;X-APPLE-RADIUS=500;X-TITLE=1151 Highway 26:geo:-79.747991,44.4444354
END:VEVENT
BEGIN:VEVENT
DTSTART;TZID=America/Toronto:20240724T100000
DTEND;TZID=America/Toronto:20240724T200000
DTSTAMP:20260420T042539
CREATED:20240318T131144Z
LAST-MODIFIED:20240318T173817Z
UID:10000150-1721815200-1721851200@hceacanada.org
SUMMARY:HCEA Work Day
DESCRIPTION:Join Us for Work Days at the Museum! \nStart Date: April 3rd\, Wednesday – Mark your calendars for the kickoff of our volunteer activities at the museum! \nTime: Dive into action anytime from 10 AM to 8 PM. Please note\, timings and days may adjust based on specific tasks and weather conditions. \nFrequency: Every Wednesday from April to November (excluding certain dates). This recurring schedule gives you plenty of opportunities to get involved at times that best suit you. \nGet Involved: Whether you’re a seasoned member or new to our community\, we welcome your enthusiasm and skills! To learn more about the specific activities planned and how you can contribute\, please reach out to our dedicated Volunteer Coordinator. Check out our current projects on the Restoration Page. \nDon’t miss this chance to make a difference\, connect with fellow members\, and contribute to our museum’s success. We’re excited to see you there!
URL:https://hceacanada.org/calendar/hcea-work-day/2024-07-24/
LOCATION:Simcoe County Museum\, 1151 Highway 26\, Minesing\, Ontario\, L9X 0Z7\, Canada
CATEGORIES:Member Activities,Work Nights
ATTACH;FMTTYPE=image/jpeg:https://hceacanada.org/wp-content/uploads/2024/03/1000005887-jpg.webp
ORGANIZER;CN="Don Morton":MAILTO:hcea.canada@gmail.com
GEO:44.4444354;-79.747991
X-APPLE-STRUCTURED-LOCATION;VALUE=URI;X-ADDRESS=Simcoe County Museum 1151 Highway 26 Minesing Ontario L9X 0Z7 Canada;X-APPLE-RADIUS=500;X-TITLE=1151 Highway 26:geo:-79.747991,44.4444354
END:VEVENT
BEGIN:VEVENT
DTSTART;TZID=America/Toronto:20240731T100000
DTEND;TZID=America/Toronto:20240731T200000
DTSTAMP:20260420T042539
CREATED:20240318T131144Z
LAST-MODIFIED:20240318T173817Z
UID:10000151-1722420000-1722456000@hceacanada.org
SUMMARY:HCEA Work Day
DESCRIPTION:Join Us for Work Days at the Museum! \nStart Date: April 3rd\, Wednesday – Mark your calendars for the kickoff of our volunteer activities at the museum! \nTime: Dive into action anytime from 10 AM to 8 PM. Please note\, timings and days may adjust based on specific tasks and weather conditions. \nFrequency: Every Wednesday from April to November (excluding certain dates). This recurring schedule gives you plenty of opportunities to get involved at times that best suit you. \nGet Involved: Whether you’re a seasoned member or new to our community\, we welcome your enthusiasm and skills! To learn more about the specific activities planned and how you can contribute\, please reach out to our dedicated Volunteer Coordinator. Check out our current projects on the Restoration Page. \nDon’t miss this chance to make a difference\, connect with fellow members\, and contribute to our museum’s success. We’re excited to see you there!
URL:https://hceacanada.org/calendar/hcea-work-day/2024-07-31/
LOCATION:Simcoe County Museum\, 1151 Highway 26\, Minesing\, Ontario\, L9X 0Z7\, Canada
CATEGORIES:Member Activities,Work Nights
ATTACH;FMTTYPE=image/jpeg:https://hceacanada.org/wp-content/uploads/2024/03/1000005887-jpg.webp
ORGANIZER;CN="Don Morton":MAILTO:hcea.canada@gmail.com
GEO:44.4444354;-79.747991
X-APPLE-STRUCTURED-LOCATION;VALUE=URI;X-ADDRESS=Simcoe County Museum 1151 Highway 26 Minesing Ontario L9X 0Z7 Canada;X-APPLE-RADIUS=500;X-TITLE=1151 Highway 26:geo:-79.747991,44.4444354
END:VEVENT
END:VCALENDAR